Workbook

Sheet Data
A1: Regnr | B1: Namn | C1: Kön | D1: Födelseår | E1: Eget BPH | F1: Avelsvärde Socialitet | G1: Avelsvärde Lekfullhet | H1: Avelsvärde Miljötrygghet | I1: Avelsvärde Hotfullhet | J1: Säkerhet Socialitet | K1: Säkerhet Lekfullhet | L1: Säkerhet Miljötrygghet | M1: Säkerhet Hotfullhet
A2: SE41789/2021 | B2: ABBA | C2: T | D2: 2021 | E2: Nej | F2: 92.104929 | G2: 109.82666 | H2: 96.18095 | J2: 0.32906604 | K2: 0.38577256 | L2: 0.34470911 | M2: 0.28127372
A3: DK13327/2008 | B3: ABINVALE TRAGUARDO | C3: H | D3: 2008 | E3: Nej | F3: 102.89239 | G3: 108.46988 | H3: 104.78177 | I3: 101.7179 | J3: 0.45546251 | K3: 0.51638263 | L3: 0.46905805 | M3: 0.41092251
A4: S62496/2009 | B4: ABNALLS SCARLETT | C4: T | D4: 2009 | E4: Nej | F4: 102.69737 | G4: 100.27886 | H4: 91.303713 | I4: 101.82693 | J4: 0.37151794 | K4: 0.43231034 | L4: 0.38794752 | M4: 0.32646471
A5: PKR.VIII-37149 | B5: ABRAKADABRA COMFORTZONE | C5: T | D5: 2017 | E5: Nej | G5: 85.890181 | J5: 0.26070799 | K5: 0.31173506 | L5: 0.26194724 | M5: 0.19483495
A6: SE44597/2023 | B6: ACKE-SMULTRON | C6: H | D6: 2023 | E6: Nej | G6: 114.41513 | J6: 0.2620887 | K6: 0.31040463 | L6: 0.26822289 | M6: 0.21051346
A7: SE41787/2021 | B7: ACKO | C7: H | D7: 2021 | E7: Ja | F7: 91.341357 | G7: 113.63654 | H7: 98.142663 | I7: 94.539361 | J7: 0.47715951 | K7: 0.56525304 | L7: 0.49539421 | M7: 0.40479494
A8: SE51713/2021 | B8: ADA | C8: T | D8: 2021 | E8: Ja | F8: 103.15873 | G8: 119.36696 | H8: 103.75418 | I8: 99.861386 | J8: 0.5556445 | K8: 0.64403275 | L8: 0.57479233 | M8: 0.43844934
A9: SE35763/2025 | B9: AEGON | C9: H | D9: 2025 | E9: Nej | F9: 116.04286 | G9: 117.77771 | H9: 113.74232 | I9: 92.287705 | J9: 0.37694217 | K9: 0.42903823 | L9: 0.38406116 | M9: 0.34091416
A10: SE35767/2025 | B10: AELINA | C10: T | D10: 2025 | E10: Nej | F10: 116.04286 | G10: 117.77771 | H10: 113.74232 | I10: 92.287705 | J10: 0.37694217 | K10: 0.42903823 | L10: 0.38406116 | M10: 0.34091416
A11: SE41790/2021 | B11: AIJA | C11: T | D11: 2021 | E11: Nej | F11: 92.104929 | G11: 109.82666 | H11: 96.18095 | J11: 0.32906604 | K11: 0.38577256 | L11: 0.34470911 | M11: 0.28127372
A12: SE36934/2016 | B12: AIM HIGH DEBBIE HARRY | C12: T | D12: 2016 | E12: Nej | F12: 106.26792 | G12: 118.18586 | H12: 116.21336 | I12: 89.891785 | J12: 0.37012626 | K12: 0.41292762 | L12: 0.378101 | M12: 0.33697805
A13: S48333/2007 | B13: AIM HIGH GRAND SLAM | C13: T | D13: 2007 | E13: Nej | G13: 111.93964 | J13: 0.25240276 | K13: 0.3291077 | L13: 0.27069314 | M13: 0.1994434
A14: SE36933/2016 | B14: AIM HIGH JOAN JETT | C14: T | D14: 2016 | E14: Nej | F14: 106.26792 | G14: 118.18586 | H14: 116.21336 | I14: 89.891785 | J14: 0.37012626 | K14: 0.41292762 | L14: 0.378101 | M14: 0.33697805
A15: SE36932/2016 | B15: AIM HIGH LEMMY KILMISTER | C15: H | D15: 2016 | E15: Nej | F15: 106.26792 | G15: 118.18586 | H15: 116.21336 | I15: 89.891785 | J15: 0.37012626 | K15: 0.41292762 | L15: 0.378101 | M15: 0.33697805
A16: SE36935/2016 | B16: AIM HIGH LITA FORD | C16: T | D16: 2016 | E16: Ja | F16: 104.94465 | G16: 120.09086 | H16: 116.29474 | I16: 88.566842 | J16: 0.50544254 | K16: 0.58240495 | L16: 0.517899 | M16: 0.46361624
A17: SE40448/2011 | B17: AIM HIGH MAGNUM OPUS | C17: H | D17: 2011 | E17: Nej | F17: 103.82416 | G17: 120.11303 | H17: 117.97467 | J17: 0.31459808 | K17: 0.36570493 | L17: 0.32619439 | M17: 0.2743403
A18: SE40451/2011 | B18: AIM HIGH MANU ET MENTE | C18: T | D18: 2011 | E18: Ja | F18: 100.79529 | G18: 116.30769 | H18: 119.3884 | I18: 83.301893 | J18: 0.46849281 | K18: 0.55468378 | L18: 0.4915126 | M18: 0.40880879
A19: SE40452/2011 | B19: AIM HIGH MANU FORTI | C19: T | D19: 2011 | E19: Nej | F19: 103.16251 | G19: 121.06551 | H19: 118.01537 | I19: 85.20279 | J19: 0.35940871 | K19: 0.41983708 | L19: 0.37173491 | M19: 0.31804618
A20: SE40450/2011 | B20: AIM HIGH MANU PROPRIA | C20: T | D20: 2011 | E20: Nej | F20: 103.82416 | G20: 120.11303 | H20: 117.97467 | J20: 0.31459808 | K20: 0.36570493 | L20: 0.32619439 | M20: 0.2743403
A21: SE40446/2011 | B21: AIM HIGH MARTE MEO | C21: H | D21: 2011 | E21: Nej | F21: 103.82416 | G21: 120.11303 | H21: 117.97467 | J21: 0.31459808 | K21: 0.36570493 | L21: 0.32619439 | M21: 0.2743403
A22: SE40447/2011 | B22: AIM HIGH MIHMET CREDO | C22: H | D22: 2011 | E22: Nej | F22: 103.82416 | G22: 120.11303 | H22: 117.97467 | J22: 0.31459808 | K22: 0.36570493 | L22: 0.32619439 | M22: 0.2743403
A23: SE40449/2011 | B23: AIM HIGH MULTUM IN PARVO | C23: H | D23: 2011 | E23: Nej | F23: 103.82416 | G23: 120.11303 | H23: 117.97467 | J23: 0.31459808 | K23: 0.36570493 | L23: 0.32619439 | M23: 0.2743403
A24: SE32050/2012 | B24: AIM HIGH TOFTS CHASE | C24: H | D24: 2012 | E24: Ja | F24: 102.62083 | G24: 114.22748 | H24: 117.43312 | I24: 88.695359 | J24: 0.39907702 | K24: 0.49957263 | L24: 0.41620809 | M24: 0.34794348
A25: SE38162/2015 | B25: AIME | C25: T | D25: 2015 | E25: Ja | F25: 101.45004 | G25: 134.49742 | H25: 116.187 | I25: 101.65636 | J25: 0.60585751 | K25: 0.67854024 | L25: 0.61470123 | M25: 0.53809568
A26: SE35766/2025 | B26: AJAX | C26: H | D26: 2025 | E26: Nej | F26: 116.04286 | G26: 117.77771 | H26: 113.74232 | I26: 92.287705 | J26: 0.37694217 | K26: 0.42903823 | L26: 0.38406116 | M26: 0.34091416
A27: SE47314/2017 | B27: AKVARELLEN'S ARCTIC OCEAN | C27: H | D27: 2017 | E27: Nej | G27: 89.904617 | J27: 0.27663582 | K27: 0.32599735 | L27: 0.28842284 | M27: 0.22904479
A28: SE47317/2017 | B28: AKVARELLEN'S BLUE OCEAN | C28: H | D28: 2017 | E28: Nej | G28: 89.904617 | J28: 0.27663582 | K28: 0.32599735 | L28: 0.28842284 | M28: 0.22904479
A29: SE47315/2017 | B29: AKVARELLEN'S DEEP OCEAN | C29: H | D29: 2017 | E29: Nej | G29: 89.904617 | J29: 0.27663582 | K29: 0.32599735 | L29: 0.28842284 | M29: 0.22904479
A30: SE47316/2017 | B30: AKVARELLEN'S OCEAN BREEZE | C30: H | D30: 2017 | E30: Nej | G30: 89.904617 | J30: 0.27663582 | K30: 0.32599735 | L30: 0.28842284 | M30: 0.22904479
A31: SE47313/2017 | B31: AKVARELLEN'S OCEAN RACE | C31: H | D31: 2017 | E31: Nej | G31: 89.904617 | J31: 0.27663582 | K31: 0.32599735 | L31: 0.28842284 | M31: 0.22904479
A32: SE29971/2018 | B32: AKVARELLEN'S ONE AND ONLY | C32: T | D32: 2018 | E32: Nej | G32: 100.2522 | H32: 106.11116 | J32: 0.29009862 | K32: 0.34827785 | L32: 0.305229 | M32: 0.23471692
A33: SE38490/2020 | B33: AKVILEJA | C33: T | D33: 2020 | E33: Nej | F33: 93.738133 | G33: 103.74648 | H33: 105.26099 | J33: 0.33714373 | K33: 0.38860689 | L33: 0.34520481 | M33: 0.29441795
A34: SE35772/2025 | B34: ALANNA | C34: T | D34: 2025 | E34: Nej | F34: 116.04286 | G34: 117.77771 | H34: 113.74232 | I34: 92.287705 | J34: 0.37694217 | K34: 0.42903823 | L34: 0.38406116 | M34: 0.34091416
A35: SE35771/2025 | B35: ALERIE | C35: T | D35: 2025 | E35: Nej | F35: 116.04286 | G35: 117.77771 | H35: 113.74232 | I35: 92.287705 | J35: 0.37694217 | K35: 0.42903823 | L35: 0.38406116 | M35: 0.34091416
A36: NO51009/17 | B36: A-LINUS | C36: H | D36: 2017 | E36: Nej | F36: 107.07649 | G36: 123.69334 | H36: 109.62369 | I36: 97.151107 | J36: 0.36239466 | K36: 0.38702979 | L36: 0.36845319 | M36: 0.33517586
A37: SE22330/2011 | B37: ALLABALLATASSENS ANOKI | C37: H | D37: 2011 | E37: Nej | G37: 109.02292 | J37: 0.26844992 | K37: 0.32326651 | L37: 0.28093513 | M37: 0.22347945
A38: SE56629/2011 | B38: ALLABALLATASSENS APPELBY | C38: T | D38: 2011 | E38: Nej | F38: 102.32812 | G38: 105.04036 | H38: 121.62113 | J38: 0.31428452 | K38: 0.35279865 | L38: 0.31982063 | M38: 0.28011223
A39: SE41811/2010 | B39: ALLABALLATASSENS AUSSIE | C39: H | D39: 2010 | E39: Nej | F39: 108.00714 | G39: 107.08464 | H39: 123.49938 | J39: 0.30696639 | K39: 0.35116089 | L39: 0.31128919 | M39: 0.26966174
A40: S51261/2008 | B40: ALLABALLATASSENS BACKYARD BABY | C40: T | D40: 2008 | E40: Nej | F40: 102.32812 | G40: 105.04036 | H40: 121.62113 | J40: 0.31428452 | K40: 0.35279865 | L40: 0.31982063 | M40: 0.28011223
...

Sheet Provparning
B2: PROVPARNING MENTALINDEX
B3: Ange hanens regnr | D3: =IFERROR(VLOOKUP($B4,Data!$A:$M,3,FALSE),"") | E3: Socialitet | F3: Lekfullhet | G3: Miljötrygghet | H3: Hotfullhet
D4: Avelsvärde | E4: =IF(D3="H",IF(E16>E14,E15,"Saknas"),"Saknas") -> Saknas | F4: =IF(D3="H",IF(F16>F14,F15,"Saknas"),"Saknas") -> Saknas | G4: =IF(D3="H",IF(G16>G14,G15,"Saknas"),"Saknas") -> Saknas | H4: =IF(D3="H",IF(H16>H14,H15,"Saknas"),"Saknas") -> Saknas
B5: =IFERROR(IF((VLOOKUP($B4,Data!$A:$M,3,FALSE) = "H"),(VLOOKUP($B4,Data!$A:$M,2,FALSE)),"Ingen hane hittades med angivet registreringsnr."),"Ingen hane hittades med angivet registreringsnr.") -> Ingen hane hittades med angivet registreringsnr. | D5: Säkerhet | E5: =IF(D3="H",IF(E16>E14,E16,"Saknas"),"Saknas") -> Saknas | F5: =IF(D3="H",IF(F16>F14,F16,"Saknas"),"Saknas") -> Saknas | G5: =IF(D3="H",IF(G16>G14,G16,"Saknas"),"Saknas") -> Saknas | H5: =IF(D3="H",IF(H16>H14,H16,"Saknas"),"Saknas") -> Saknas
E6: =CONCATENATE("Avelsvärdet visas inte om dess säkerhet underskrider ",I14,".",) -> Avelsvärdet visas inte om dess säkerhet underskrider 0.3.
B7: Ange tikens regnr | D7: =IFERROR(VLOOKUP($B8,Data!$A:$M,3,FALSE),"") | E7: Socialitet | F7: Lekfullhet | G7: Miljötrygghet | H7: Hotfullhet
D8: Avelsvärde | E8: =IF(D7="T",IF(E18>E14,E17,"Saknas"),"Saknas") -> Saknas | F8: =IF(D7="T",IF(F18>F14,F17,"Saknas"),"Saknas") -> Saknas | G8: =IF(D7="T",IF(G18>G14,G17,"Saknas"),"Saknas") -> Saknas | H8: =IF(D7="T",IF(H18>H14,H17,"Saknas"),"Saknas") -> Saknas
B9: =IFERROR(IF((VLOOKUP($B8,Data!$A:$M,3,FALSE) = "T"),(VLOOKUP($B8,Data!$A:$M,2,FALSE)),"Ingen tik hittades med angivet registreringsnr."),"Ingen tik hittades med angivet registreringsnr.") -> Ingen tik hittades med angivet registreringsnr. | D9: Säkerhet | E9: =IF(D7="T",IF(E18>E14,E18,"Saknas"),"Saknas") -> Saknas | F9: =IF(D7="T",IF(F18>F14,F18,"Saknas"),"Saknas") -> Saknas | G9: =IF(D7="T",IF(G18>G14,G18,"Saknas"),"Saknas") -> Saknas | H9: =IF(D7="T",IF(H18>H14,H18,"Saknas"),"Saknas") -> Saknas
E10: =CONCATENATE("Avelsvärdet visas inte om dess säkerhet underskrider ",I14,".",) -> Avelsvärdet visas inte om dess säkerhet underskrider 0.3.
D11: Preliminärt kullindex | E11: Socialitet | F11: Lekfullhet | G11: Miljötrygghet | H11: Hotfullhet
D12: Avelsvärde | E12: =IFERROR((E4+E8)/2,"Saknas") -> Saknas | F12: =IFERROR((F4+F8)/2,"Saknas") -> Saknas | G12: =IFERROR((G4+G8)/2,"Saknas") -> Saknas | H12: =IFERROR((H4+H8)/2,"Saknas") -> Saknas
E13: =CONCATENATE("Preliminärt kullindex beräknas inte om avelsvärdets säkerhet underskrider ",I14) -> Preliminärt kullindex beräknas inte om avelsvärdets säkerhet underskrider 0.3
D14: Gränsvärde | E14: 0.299 | F14: 0.299 | G14: 0.299 | H14: 0.299 | I14: 0.3
D15: Hane avelsvärde | E15: =IFERROR(VLOOKUP($B4,Data!$A:$M,6,FALSE),"Saknas") -> Saknas | F15: =IFERROR(VLOOKUP($B4,Data!$A:$M,7,FALSE),"Saknas") -> Saknas | G15: =IFERROR(VLOOKUP($B4,Data!$A:$M,8,FALSE),"Saknas") -> Saknas | H15: =IFERROR(VLOOKUP($B4,Data!$A:$M,9,FALSE),"Saknas") -> Saknas
D16: Hane säkerhet | E16: =IFERROR(VLOOKUP($B4,Data!$A:$M,10,FALSE),"Saknas") -> Saknas | F16: =IFERROR(VLOOKUP($B4,Data!$A:$M,11,FALSE),"Saknas") -> Saknas | G16: =IFERROR(VLOOKUP($B4,Data!$A:$M,12,FALSE),"Saknas") -> Saknas | H16: =IFERROR(VLOOKUP($B4,Data!$A:$M,13,FALSE),"Saknas") -> Saknas
D17: Tik avelsvärde | E17: =IFERROR(VLOOKUP($B8,Data!$A:$M,6,FALSE),"Saknas") -> Saknas | F17: =IFERROR(VLOOKUP($B8,Data!$A:$M,7,FALSE),"Saknas") -> Saknas | G17: =IFERROR(VLOOKUP($B8,Data!$A:$M,8,FALSE),"Saknas") -> Saknas | H17: =IFERROR(VLOOKUP($B8,Data!$A:$M,9,FALSE),"Saknas") -> Saknas
D18: Tik säkerhet | E18: =IFERROR(VLOOKUP($B8,Data!$A:$M,10,FALSE),"Saknas") -> Saknas | F18: =IFERROR(VLOOKUP($B8,Data!$A:$M,11,FALSE),"Saknas") -> Saknas | G18: =IFERROR(VLOOKUP($B8,Data!$A:$M,12,FALSE),"Saknas") -> Saknas | H18: =IFERROR(VLOOKUP($B8,Data!$A:$M,13,FALSE),"Saknas") -> Saknas
D19: Kull säkerhet | E19: =IFERROR(SQRT(((E5^2)+(E9^2))/4),"Saknas") -> Saknas | F19: =IFERROR(SQRT(((F5^2)+(F9^2))/4),"Saknas") -> Saknas | G19: =IFERROR(SQRT(((G5^2)+(G9^2))/4),"Saknas") -> Saknas | H19: =IFERROR(SQRT(((H5^2)+(H9^2))/4),"Saknas") -> Saknas
